BEGIN:VCALENDAR
VERSION:2.0
PRODID:SchoolNow
CALSCALE:GREGORIAN
BEGIN:VEVENT
UID:a06d02f0-fa9a-11ef-9a64-0a58a9feac02
DTSTAMP:20260421T150555Z
SUMMARY:AHS-Last day for Students
URL;VALUE=URI:https://www.sau81.org/ahs/calendar/7616525/ahs-last-day-for-s
 tudents
DTSTART:20260616T113000Z
DTEND:20260616T151500Z
END:VEVENT
END:VCALENDAR
