BEGIN:VCALENDAR
VERSION:2.0
PRODID:SchoolNow
CALSCALE:GREGORIAN
BEGIN:VEVENT
UID:a06d020a-fa9a-11ef-9bcf-0a58a9feac02
DTSTAMP:20260421T150555Z
SUMMARY:AHS-No School Memorial Day
URL;VALUE=URI:https://www.sau81.org/ahs/calendar/7616524/ahs-no-school-memo
 rial-day
DTSTART;VALUE=DATE:20260525
DTEND;VALUE=DATE:20260526
END:VEVENT
END:VCALENDAR
