BEGIN:VCALENDAR
VERSION:2.0
PRODID:SchoolNow
CALSCALE:GREGORIAN
BEGIN:VEVENT
UID:a06d012e-fa9a-11ef-a494-0a58a9feac02
DTSTAMP:20260421T090107Z
SUMMARY:AHS-No School Spring Break
URL;VALUE=URI:https://www.sau81.org/ahs/calendar/7616523/ahs-no-school-spri
 ng-break
DTSTART;VALUE=DATE:20260427
DTEND;VALUE=DATE:20260502
END:VEVENT
END:VCALENDAR
