BEGIN:VCALENDAR
VERSION:2.0
PRODID:SchoolNow
CALSCALE:GREGORIAN
BEGIN:VEVENT
UID:a06cfd82-fa9a-11ef-9359-0a58a9feac02
DTSTAMP:20260421T090107Z
SUMMARY:AHS-No School (Teacher Workshop)
URL;VALUE=URI:https://www.sau81.org/ahs/calendar/7616519/ahs-no-school-teac
 her-workshop
DTSTART;VALUE=DATE:20260310
DTEND;VALUE=DATE:20260311
END:VEVENT
END:VCALENDAR
