BEGIN:VCALENDAR
VERSION:2.0
PRODID:SchoolNow
CALSCALE:GREGORIAN
BEGIN:VEVENT
UID:a06cfc92-fa9a-11ef-bc59-0a58a9feac02
DTSTAMP:20260421T090107Z
SUMMARY:AHS-No School Winter Break
URL;VALUE=URI:https://www.sau81.org/ahs/calendar/7616518/ahs-no-school-wint
 er-break
DTSTART;VALUE=DATE:20260223
DTEND;VALUE=DATE:20260228
END:VEVENT
END:VCALENDAR
