BEGIN:VCALENDAR
VERSION:2.0
PRODID:SchoolNow
CALSCALE:GREGORIAN
BEGIN:VEVENT
UID:a06cfb48-fa9a-11ef-90a5-0a58a9feac02
DTSTAMP:20260421T090107Z
SUMMARY:AHS-No School MLK/Civil Rights Day
URL;VALUE=URI:https://www.sau81.org/ahs/calendar/7616517/ahs-no-school-mlk-
 civil-rights-day
DTSTART;VALUE=DATE:20260119
DTEND;VALUE=DATE:20260120
END:VEVENT
END:VCALENDAR
