BEGIN:VCALENDAR
VERSION:2.0
PRODID:SchoolNow
CALSCALE:GREGORIAN
BEGIN:VEVENT
UID:a06cf8aa-fa9a-11ef-995a-0a58a9feac02
DTSTAMP:20260421T025548Z
SUMMARY:AHS-No School Holiday Break
URL;VALUE=URI:https://www.sau81.org/ahs/calendar/7616516/ahs-no-school-holi
 day-break
DTSTART;VALUE=DATE:20251224
DTEND;VALUE=DATE:20260103
END:VEVENT
END:VCALENDAR
