BEGIN:VCALENDAR
VERSION:2.0
PRODID:SchoolNow
CALSCALE:GREGORIAN
BEGIN:VEVENT
UID:8ec98c0c-efa6-11ef-9366-0affe5577261
DTSTAMP:20260421T211051Z
SUMMARY:AHS - School Picture RETAKE Day
URL;VALUE=URI:https://www.sau81.org/ahs/calendar/7508556/ahs-school-picture
 -retake-day
DTSTART:20261020T113000Z
DTEND:20261020T163000Z
END:VEVENT
END:VCALENDAR
