BEGIN:VCALENDAR
VERSION:2.0
PRODID:SchoolNow
CALSCALE:GREGORIAN
BEGIN:VEVENT
UID:8ec98b08-efa6-11ef-8f53-0affe5577261
DTSTAMP:20260421T211052Z
SUMMARY:AHS - School Picture Day
URL;VALUE=URI:https://www.sau81.org/ahs/calendar/7508555/ahs-school-picture
 -day
DTSTART:20260827T113000Z
DTEND:20260827T163000Z
END:VEVENT
END:VCALENDAR
